BEGIN:VCALENDAR
VERSION:2.0
PRODID:-//Un lugar mágico desde donde contemplar el Universo - ECPv6.5.1.5//NONSGML v1.0//EN
CALSCALE:GREGORIAN
METHOD:PUBLISH
X-ORIGINAL-URL:https://astrotorcal.es
X-WR-CALDESC:Eventos para Un lugar mágico desde donde contemplar el Universo
REFRESH-INTERVAL;VALUE=DURATION:PT1H
X-Robots-Tag:noindex
X-PUBLISHED-TTL:PT1H
BEGIN:VTIMEZONE
TZID:Europe/Madrid
BEGIN:DAYLIGHT
TZOFFSETFROM:+0100
TZOFFSETTO:+0200
TZNAME:CEST
DTSTART:20250330T010000
END:DAYLIGHT
BEGIN:STANDARD
TZOFFSETFROM:+0200
TZOFFSETTO:+0100
TZNAME:CET
DTSTART:20251026T010000
END:STANDARD
END:VTIMEZONE
BEGIN:VEVENT
DTSTART;TZID=Europe/Madrid:20250329T100000
DTEND;TZID=Europe/Madrid:20250329T123000
DTSTAMP:20260425T213908
CREATED:20250327T235559Z
LAST-MODIFIED:20250327T235559Z
UID:995-1743242400-1743251400@astrotorcal.es
SUMMARY:JORNADAS DE PUERTAS ABIERTAS\, ECLIPSE PARCIAL DE SOL 29/03/2025
DESCRIPTION:ECLIPSE PARCIAL DE SOL\, JORNADAS DE PUERTAS ABIERTAS\nSi\, hemos esperado a publicar pero\, con esta racha de cielos cubiertos (y al menos esta vez con lluvias) nos hemos querido asegurar de que el cielo estará despejado la mañana del próximo 29 de marzo de 2025 cuando tendrá lugar un eclipse parcial de Sol. Bueno\, asegurar hasta cierto punto porque con la atmósfera no se puede tener certezas absolutas.\nCon un oscurecimiento cercano al 17% en el máximo a las 11:32 en el P.N. Torcal de Antequera\, el primer contacto tendrá lugar a las 10:43 y finalizará a las 12:23\, horas oficiales. No hace falta reservar sino que todos los presentes\, hasta completar aforo (que será muy amplio) podrán acercarse a los telescopios para poder observar el Sol con diferentes equipos y disfrutar tanto de la fotosfera como de la cromosfera en H-alfa. También se pondrá a disposición del público gafas de eclipses para contemplar el Sol a través de sus filtros.\nBueno\, este es el primero de un cuarteto de eclipses de Sol seguidos\, uno cada año consecutivo\, que serán visibles en España\, pero no hay lugar a dudas que es un aperitivo a lo que se considera el Trio Ibérico que son los eclipses de 2026\, 2027 y 2028\, que observaremos como dos totales y un anular respectivamente\, y que serán de tal calibre pues motivarán gran expectación\, viajes\, negocios\,… NO TE LO PIERDAS
URL:https://astrotorcal.es/evento/jornadas-de-puertas-abiertas-eclipse-parcial-de-sol-29-03-2025/
END:VEVENT
END:VCALENDAR